BEGIN:VCALENDAR
VERSION:2.0
PRODID:-//Tukios.com/
BEGIN:VEVENT
UID:4c6f8ca9-4592-4380-97b7-dfd349f6c969@www.sunsetfuneralhomes.net
DTSTAMP:20260422T191315Z
DTSTART:20260430T230000Z
DTEND:20260501T020000Z
SUMMARY:Visitation
DESCRIPTION:
URL:https://www.sunsetfuneralhomes.net/obituaries/alberto-rivera
LOCATION: 4631 Hondo Pass  El Paso TX 79904
GEO:31.8702794;-106.4336397
END:VEVENT
END:VCALENDAR