BEGIN:VCALENDAR
VERSION:2.0
PRODID:-//Tukios.com/
BEGIN:VEVENT
UID:49f66716-7e43-423d-bd92-15bd5d746629@www.sunsetfuneralhomes.net
DTSTAMP:20260422T191433Z
DTSTART:20260501T000000Z
DTEND:20260501T010000Z
SUMMARY:Rosary
DESCRIPTION:
URL:https://www.sunsetfuneralhomes.net/obituaries/alberto-rivera
LOCATION: 4631 Hondo Pass  El Paso TX 79904
GEO:31.8702794;-106.4336397
END:VEVENT
END:VCALENDAR