BEGIN:VCALENDAR
VERSION:2.0
PRODID:-//Tukios.com/
BEGIN:VEVENT
UID:59e669ad-3d6f-4f33-84c7-88eeb8e6b25a@www.sunsetfuneralhomes.net
DTSTAMP:20260422T191439Z
DTSTART:20260501T183000Z
DTEND:20260501T193000Z
SUMMARY:Mass
DESCRIPTION:
URL:https://www.sunsetfuneralhomes.net/obituaries/alberto-rivera
LOCATION: 2709 Alabama St  El Paso TX 79930
GEO:31.800612;-106.466037
END:VEVENT
END:VCALENDAR