BEGIN:VCALENDAR
VERSION:2.0
PRODID:-//Tukios.com/
BEGIN:VEVENT
UID:456d1e3f-3edb-48eb-9590-c47743ca3808@www.sunsetfuneralhomes.net
DTSTAMP:20260422T191334Z
DTSTART:20260501T200000Z
DTEND:20260501T210000Z
SUMMARY:Graveside Service
DESCRIPTION:
URL:https://www.sunsetfuneralhomes.net/obituaries/alberto-rivera
LOCATION: 4631 Hondo Pass  El Paso TX 79904
GEO:31.8702794;-106.4336397
END:VEVENT
END:VCALENDAR