BEGIN:VCALENDAR
VERSION:2.0
PRODID:-//Tukios.com/
BEGIN:VEVENT
UID:9186119e-edca-4efd-a7af-042359cfe53e@www.sunsetfuneralhomes.net
DTSTAMP:20260421T213239Z
DTSTART:20260427T230000Z
DTEND:20260428T030000Z
SUMMARY:Visitation
DESCRIPTION:
URL:https://www.sunsetfuneralhomes.net/obituaries/carmen-zepeda
LOCATION: 9521 North Loop  El Paso TX 79907
GEO:31.690169;-106.3016362
END:VEVENT
END:VCALENDAR