BEGIN:VCALENDAR
VERSION:2.0
PRODID:-//Tukios.com/
BEGIN:VEVENT
UID:7e9e4e8c-9b17-46bb-8d45-ea9b8a965cbf@www.sunsetfuneralhomes.net
DTSTAMP:20260421T213239Z
DTSTART:20260428T010000Z
DTEND:20260428T020000Z
SUMMARY:Rosary
DESCRIPTION:
URL:https://www.sunsetfuneralhomes.net/obituaries/carmen-zepeda
LOCATION: 9521 North Loop  El Paso TX 79907
GEO:31.690169;-106.3016362
END:VEVENT
END:VCALENDAR