BEGIN:VCALENDAR
VERSION:2.0
PRODID:-//Tukios.com/
BEGIN:VEVENT
UID:557f7a55-3384-43b0-a684-366b501ff3f6@www.sunsetfuneralhomes.net
DTSTAMP:20260421T213324Z
DTSTART:20260428T160000Z
DTEND:20260428T170000Z
SUMMARY:Mass
DESCRIPTION:
URL:https://www.sunsetfuneralhomes.net/obituaries/carmen-zepeda
LOCATION: 1050 N Clark Drive  El Paso TX 79905
GEO:31.779895;-106.407212
END:VEVENT
END:VCALENDAR