BEGIN:VCALENDAR
VERSION:2.0
PRODID:-//Tukios.com/
BEGIN:VEVENT
UID:c297c51c-6221-472b-b206-4bc6d429d7e3@www.sunsetfuneralhomes.net
DTSTAMP:20260421T213324Z
DTSTART:20260428T173000Z
DTEND:20260428T183000Z
SUMMARY:Burial
DESCRIPTION:
URL:https://www.sunsetfuneralhomes.net/obituaries/carmen-zepeda
LOCATION: 401 South Zaragoza Road  El Paso TX 79907
GEO:31.6796978;-106.3328025
END:VEVENT
END:VCALENDAR