BEGIN:VCALENDAR
VERSION:2.0
PRODID:-//Tukios.com/
BEGIN:VEVENT
UID:1d146334-db07-47c4-8474-4d93799e1c09@www.sunsetfuneralhomes.net
DTSTAMP:20260422T003441Z
DTSTART:20260504T230000Z
DTEND:20260505T020000Z
SUMMARY:Visitation
DESCRIPTION:
URL:https://www.sunsetfuneralhomes.net/obituaries/cherri-macdonald
LOCATION: 4631 Hondo Pass  El Paso TX 79904
GEO:31.8702794;-106.4336397
END:VEVENT
END:VCALENDAR