BEGIN:VCALENDAR
VERSION:2.0
PRODID:-//Tukios.com/
BEGIN:VEVENT
UID:5e62791b-bcff-4b91-b3c1-8c7886b6b614@www.sunsetfuneralhomes.net
DTSTAMP:20260422T003400Z
DTSTART:20260505T000000Z
DTEND:20260505T010000Z
SUMMARY:Prayer Service
DESCRIPTION:
URL:https://www.sunsetfuneralhomes.net/obituaries/cherri-macdonald
LOCATION: 4631 Hondo Pass  El Paso TX 79904
GEO:31.8702794;-106.4336397
END:VEVENT
END:VCALENDAR