BEGIN:VCALENDAR
VERSION:2.0
PRODID:-//Tukios.com/
BEGIN:VEVENT
UID:14f43b60-32c3-4b3a-ad9a-9c5b0adadd25@www.sunsetfuneralhomes.net
DTSTAMP:20260422T002836Z
DTSTART:20260505T183000Z
DTEND:20260505T193000Z
SUMMARY:Graveside Service
DESCRIPTION:
URL:https://www.sunsetfuneralhomes.net/obituaries/cherri-macdonald
LOCATION: 4848 Alps Drive  El Paso TX 79904
GEO:31.8647499;-106.4290533
END:VEVENT
END:VCALENDAR