BEGIN:VCALENDAR
VERSION:2.0
PRODID:-//Tukios.com/
BEGIN:VEVENT
UID:708a3dc8-a38c-4f3c-9aea-a19d15e3d006@www.sunsetfuneralhomes.net
DTSTAMP:20260422T003221Z
DTSTART:20260505T164500Z
DTEND:20260505T174500Z
SUMMARY:Celebration of Life
DESCRIPTION:
URL:https://www.sunsetfuneralhomes.net/obituaries/cherri-macdonald
LOCATION: 4631 Hondo Pass  El Paso TX 79904
GEO:31.8702794;-106.4336397
END:VEVENT
END:VCALENDAR