BEGIN:VCALENDAR
VERSION:2.0
PRODID:-//Tukios.com/
BEGIN:VEVENT
UID:00e934a0-e742-454e-946e-6dd2a9a8f32d@www.sunsetfuneralhomes.net
DTSTAMP:20260422T210116Z
DTSTART:20260429T220000Z
DTEND:20260430T020000Z
SUMMARY:Visitation
DESCRIPTION:
URL:https://www.sunsetfuneralhomes.net/obituaries/eglantina-tina-martinez
LOCATION:Sunset Funeral Homes-West 480 North Resler Drive  El Paso TX 
	79912
GEO:31.8474453;-106.5517895
END:VEVENT
END:VCALENDAR