BEGIN:VCALENDAR
VERSION:2.0
PRODID:-//Tukios.com/
BEGIN:VEVENT
UID:43706074-1202-47fb-be94-2ad48b14c371@www.sunsetfuneralhomes.net
DTSTAMP:20260422T210116Z
DTSTART:20260430T000000Z
DTEND:20260430T010000Z
SUMMARY:Prayer Service
DESCRIPTION:
URL:https://www.sunsetfuneralhomes.net/obituaries/eglantina-tina-martinez
LOCATION:Sunset Funeral Homes-West 480 North Resler Drive  El Paso TX 
	79912
GEO:31.8474453;-106.5517895
END:VEVENT
END:VCALENDAR