BEGIN:VCALENDAR
VERSION:2.0
PRODID:-//Tukios.com/
BEGIN:VEVENT
UID:618c07c8-d4e9-4711-8c2a-2e69a0c4c795@www.sunsetfuneralhomes.net
DTSTAMP:20260420T214059Z
DTSTART:20260423T230000Z
DTEND:20260424T030000Z
SUMMARY:Visitation
DESCRIPTION:
URL:https://www.sunsetfuneralhomes.net/obituaries/elia-espinoza-de-estrada
LOCATION:Sunset Funeral Home- Americas 9521 North Loop Drive  El Paso TX 
	79907
GEO:31.6902408;-106.3015919
END:VEVENT
END:VCALENDAR