BEGIN:VCALENDAR
VERSION:2.0
PRODID:-//Tukios.com/
BEGIN:VEVENT
UID:f3e15845-897a-462b-b42a-056e3042311c@www.sunsetfuneralhomes.net
DTSTAMP:20260420T214023Z
DTSTART:20260424T184500Z
DTEND:20260424T194500Z
SUMMARY:Mass
DESCRIPTION:
URL:https://www.sunsetfuneralhomes.net/obituaries/elia-espinoza-de-estrada
LOCATION: 9205 North Loop Dr.  El Paso TX 79907
GEO:31.697876;-106.312342
END:VEVENT
END:VCALENDAR