BEGIN:VCALENDAR
VERSION:2.0
PRODID:-//Tukios.com/
BEGIN:VEVENT
UID:9ed41590-d084-4b6b-a667-b00dea26bb8c@www.sunsetfuneralhomes.net
DTSTAMP:20260420T214156Z
DTSTART:20260424T200000Z
DTEND:20260424T210000Z
SUMMARY:Graveside Service
DESCRIPTION:
URL:https://www.sunsetfuneralhomes.net/obituaries/elia-espinoza-de-estrada
LOCATION: 401 S Zaragoza Rd.  El Paso TX 79907
GEO:31.683061;-106.332803
END:VEVENT
END:VCALENDAR