BEGIN:VCALENDAR
VERSION:2.0
PRODID:-//Tukios.com/
BEGIN:VEVENT
UID:1de319c3-3991-42e5-b622-ee0b0a4ba716@www.sunsetfuneralhomes.net
DTSTAMP:20260420T214007Z
DTSTART:20260424T010000Z
DTEND:20260424T020000Z
SUMMARY:Rosary
DESCRIPTION:
URL:https://www.sunsetfuneralhomes.net/obituaries/elia-espinoza-de-estrada
LOCATION: 9521 North Loop  El Paso TX 79907
GEO:31.690169;-106.3016362
END:VEVENT
END:VCALENDAR