BEGIN:VCALENDAR
VERSION:2.0
PRODID:-//Tukios.com/
BEGIN:VEVENT
UID:8387c7a3-2e82-4548-a069-c5706dfcded9@www.sunsetfuneralhomes.net
DTSTAMP:20260424T201822Z
DTSTART:20260503T220000Z
DTEND:20260504T020000Z
SUMMARY:Visitation
DESCRIPTION:
URL:https://www.sunsetfuneralhomes.net/obituaries/francisco-kiki-saenz
LOCATION: 480 North Resler  El Paso TX 79912
GEO:31.8475015;-106.551824
END:VEVENT
END:VCALENDAR