BEGIN:VCALENDAR
VERSION:2.0
PRODID:-//Tukios.com/
BEGIN:VEVENT
UID:36772b06-088b-445f-846f-cfb201db0f22@www.sunsetfuneralhomes.net
DTSTAMP:20260421T025558Z
DTSTART:20260425T000000Z
DTEND:20260425T010000Z
SUMMARY:Celebration of Life
DESCRIPTION:
URL:https://www.sunsetfuneralhomes.net/obituaries/griselda-espino-vera
LOCATION:Sunset Funeral Home- Americas 9521 North Loop Drive  El Paso TX 
	79907
GEO:31.6902408;-106.3015919
END:VEVENT
END:VCALENDAR