BEGIN:VCALENDAR
VERSION:2.0
PRODID:-//Tukios.com/
BEGIN:VEVENT
UID:6272a509-4177-4034-b440-314a27889d20@www.sunsetfuneralhomes.net
DTSTAMP:20260424T221725Z
DTSTART:20260522T230000Z
DTEND:20260523T010000Z
SUMMARY:Memorial Service
DESCRIPTION:
URL:https://www.sunsetfuneralhomes.net/obituaries/isabel-cortez
LOCATION: 480 North Resler  El Paso TX 79912
GEO:31.8475015;-106.551824
END:VEVENT
END:VCALENDAR