BEGIN:VCALENDAR
VERSION:2.0
PRODID:-//Tukios.com/
BEGIN:VEVENT
UID:e2cb12f8-add1-4ecc-9f7d-327c55efa847@www.sunsetfuneralhomes.net
DTSTAMP:20260424T221929Z
DTSTART:20260523T000000Z
DTEND:20260523T010000Z
SUMMARY:Rosary
DESCRIPTION:
URL:https://www.sunsetfuneralhomes.net/obituaries/isabel-cortez
LOCATION: 480 North Resler  El Paso TX 79912
GEO:31.8475015;-106.551824
END:VEVENT
END:VCALENDAR