BEGIN:VCALENDAR
VERSION:2.0
PRODID:-//Tukios.com/
BEGIN:VEVENT
UID:ae0174a9-b0c3-4179-b9fa-497884d51ec1@www.sunsetfuneralhomes.net
DTSTAMP:20260424T222451Z
DTSTART:20260523T173000Z
DTEND:20260523T183000Z
SUMMARY:Inurnment
DESCRIPTION:
URL:https://www.sunsetfuneralhomes.net/obituaries/isabel-cortez
LOCATION: 401 South Zaragoza Road  El Paso TX 79907
GEO:31.6796978;-106.3328025
END:VEVENT
END:VCALENDAR