BEGIN:VCALENDAR
VERSION:2.0
PRODID:-//Tukios.com/
BEGIN:VEVENT
UID:fb637ce2-3be7-4a49-908a-bfa115b8e32c@www.sunsetfuneralhomes.net
DTSTAMP:20260424T214031Z
DTSTART:20260427T210000Z
DTEND:20260428T020000Z
SUMMARY:Visitation
DESCRIPTION:
URL:https://www.sunsetfuneralhomes.net/obituaries/isidro-ortega
LOCATION:Sunset Funeral Home-West 480 North Resler Drive  El Paso TX 
	79912
GEO:31.8474453;-106.5517895
END:VEVENT
END:VCALENDAR