BEGIN:VCALENDAR
VERSION:2.0
PRODID:-//Tukios.com/
BEGIN:VEVENT
UID:63a6aa91-fb2d-495f-a48b-31c6cee6e9bc@www.sunsetfuneralhomes.net
DTSTAMP:20260424T213726Z
DTSTART:20260428T190000Z
DTEND:20260428T200000Z
SUMMARY:Mass
DESCRIPTION:
URL:https://www.sunsetfuneralhomes.net/obituaries/isidro-ortega
LOCATION:Iglesia Católica St. Jude 4006 Hidden Way  El Paso TX 79922
GEO:31.8193309;-106.5597882
END:VEVENT
END:VCALENDAR