BEGIN:VCALENDAR
VERSION:2.0
PRODID:-//Tukios.com/
BEGIN:VEVENT
UID:384a0ee9-abd5-4323-91ce-3d6b0fea7893@www.sunsetfuneralhomes.net
DTSTAMP:20260424T213904Z
DTSTART:20260428T203000Z
DTEND:20260428T213000Z
SUMMARY:Burial
DESCRIPTION:
URL:https://www.sunsetfuneralhomes.net/obituaries/isidro-ortega
LOCATION:Memory Gardens of the Valley 4900 McNutt Road  Santa Teresa NM 
	88008
GEO:31.8390649;-106.6191465
END:VEVENT
END:VCALENDAR