BEGIN:VCALENDAR
VERSION:2.0
PRODID:-//Tukios.com/
BEGIN:VEVENT
UID:0041f2d5-0ae8-4ce2-9651-390f40e1ffeb@www.sunsetfuneralhomes.net
DTSTAMP:20260423T221831Z
DTSTART:20260505T000000Z
DTEND:20260505T030000Z
SUMMARY:Visitation
DESCRIPTION:
URL:https://www.sunsetfuneralhomes.net/obituaries/miguel-sertuche-jr
LOCATION: 131 S. Zaragosa  El Paso TX 79907
GEO:31.690626;-106.3276162
END:VEVENT
END:VCALENDAR