BEGIN:VCALENDAR
VERSION:2.0
PRODID:-//Tukios.com/
BEGIN:VEVENT
UID:7059f550-578c-4520-98a5-f73783a7e077@www.sunsetfuneralhomes.net
DTSTAMP:20260423T222552Z
DTSTART:20260505T010000Z
DTEND:20260505T020000Z
SUMMARY:Rosary
DESCRIPTION:
URL:https://www.sunsetfuneralhomes.net/obituaries/miguel-sertuche-jr
LOCATION: 131 S. Zaragosa  El Paso TX 79907
GEO:31.690626;-106.3276162
END:VEVENT
END:VCALENDAR