BEGIN:VCALENDAR
VERSION:2.0
PRODID:-//Tukios.com/
BEGIN:VEVENT
UID:fd97be1a-4881-4a32-889c-079196d84666@www.sunsetfuneralhomes.net
DTSTAMP:20260423T222622Z
DTSTART:20260505T153000Z
DTEND:20260505T163000Z
SUMMARY:Mass
DESCRIPTION:
URL:https://www.sunsetfuneralhomes.net/obituaries/miguel-sertuche-jr
LOCATION: 131 S. Zaragosa  El Paso TX 79907
GEO:31.690626;-106.3276162
END:VEVENT
END:VCALENDAR