BEGIN:VCALENDAR
VERSION:2.0
PRODID:-//Tukios.com/
BEGIN:VEVENT
UID:208246ce-75cc-4693-90cf-8dc62a070703@www.sunsetfuneralhomes.net
DTSTAMP:20260423T222552Z
DTSTART:20260505T170000Z
DTEND:20260505T180000Z
SUMMARY:Graveside Service
DESCRIPTION:
URL:https://www.sunsetfuneralhomes.net/obituaries/miguel-sertuche-jr
LOCATION: 401 S Zaragoza Rd.  El Paso TX 79907
GEO:31.683061;-106.332803
END:VEVENT
END:VCALENDAR