BEGIN:VCALENDAR
VERSION:2.0
PRODID:-//Tukios.com/
BEGIN:VEVENT
UID:cbf1f0b5-adc4-4fd6-b88f-675f2ccbb624@www.sunsetfuneralhomes.net
DTSTAMP:20260421T003808Z
DTSTART:20260501T230000Z
DTEND:20260502T030000Z
SUMMARY:Visitation
DESCRIPTION:
URL:https://www.sunsetfuneralhomes.net/obituaries/ofelia-cuellar
LOCATION:Sunset Funeral Home- Americas 9521 North Loop Drive  El Paso TX 
	79907
GEO:31.6902408;-106.3015919
END:VEVENT
END:VCALENDAR