BEGIN:VCALENDAR
VERSION:2.0
PRODID:-//Tukios.com/
BEGIN:VEVENT
UID:5fabb329-24d6-43d8-a18f-e1e2c1f3a944@www.sunsetfuneralhomes.net
DTSTAMP:20260421T003945Z
DTSTART:20260502T150000Z
DTEND:20260502T160000Z
SUMMARY:Mass
DESCRIPTION:
URL:https://www.sunsetfuneralhomes.net/obituaries/ofelia-cuellar
LOCATION: 9205 North Loop Dr.  El Paso TX 79907
GEO:31.697876;-106.312342
END:VEVENT
END:VCALENDAR