BEGIN:VCALENDAR
VERSION:2.0
PRODID:-//Tukios.com/
BEGIN:VEVENT
UID:268a3577-2321-4dd4-95b6-3bd27e9d1fb3@www.sunsetfuneralhomes.net
DTSTAMP:20260421T003910Z
DTSTART:20260502T163000Z
DTEND:20260502T173000Z
SUMMARY:Graveside Service
DESCRIPTION:
URL:https://www.sunsetfuneralhomes.net/obituaries/ofelia-cuellar
LOCATION: 401 S Zaragoza Rd.  El Paso TX 79907
GEO:31.683061;-106.332803
END:VEVENT
END:VCALENDAR