BEGIN:VCALENDAR
VERSION:2.0
PRODID:-//Tukios.com/
BEGIN:VEVENT
UID:0ff9e6e5-2c05-4c74-8601-c1c0cccccd6c@www.sunsetfuneralhomes.net
DTSTAMP:20260421T003818Z
DTSTART:20260502T010000Z
DTEND:20260502T020000Z
SUMMARY:Rosary
DESCRIPTION:
URL:https://www.sunsetfuneralhomes.net/obituaries/ofelia-cuellar
LOCATION: 9521 North Loop  El Paso TX 79907
GEO:31.690169;-106.3016362
END:VEVENT
END:VCALENDAR