BEGIN:VCALENDAR
VERSION:2.0
PRODID:-//Tukios.com/
BEGIN:VEVENT
UID:7e508158-4c8d-4af0-b977-4f498cc3f932@www.sunsetfuneralhomes.net
DTSTAMP:20260423T221956Z
DTSTART:20260428T220000Z
DTEND:20260429T020000Z
SUMMARY:Visitation
DESCRIPTION:
URL:https://www.sunsetfuneralhomes.net/obituaries/raquel-meza-2026
LOCATION: 480 North Resler  El Paso TX 79912
GEO:31.8475015;-106.551824
END:VEVENT
END:VCALENDAR