BEGIN:VCALENDAR
VERSION:2.0
PRODID:-//Tukios.com/
BEGIN:VEVENT
UID:3395b1e3-d689-4d3e-b255-797db1cc3624@www.sunsetfuneralhomes.net
DTSTAMP:20260423T222622Z
DTSTART:20260429T000000Z
DTEND:20260429T010000Z
SUMMARY:Rosary
DESCRIPTION:
URL:https://www.sunsetfuneralhomes.net/obituaries/raquel-meza-2026
LOCATION: 480 North Resler  El Paso TX 79912
GEO:31.8475015;-106.551824
END:VEVENT
END:VCALENDAR