BEGIN:VCALENDAR
VERSION:2.0
PRODID:-//Tukios.com/
BEGIN:VEVENT
UID:03838968-66d8-414d-8d9d-2cc4baf3c7fb@www.sunsetfuneralhomes.net
DTSTAMP:20260423T222304Z
DTSTART:20260429T193000Z
DTEND:20260429T203000Z
SUMMARY:Graveside Service
DESCRIPTION:
URL:https://www.sunsetfuneralhomes.net/obituaries/raquel-meza-2026
LOCATION: 5200 Fred Wilson Ave  El Paso TX 79906
GEO:31.8259812;-106.4237258
END:VEVENT
END:VCALENDAR