BEGIN:VCALENDAR
VERSION:2.0
PRODID:-//Tukios.com/
BEGIN:VEVENT
UID:defd61a1-4940-49b8-a747-faaa9eb13613@www.sunsetfuneralhomes.net
DTSTAMP:20260424T233237Z
DTSTART:20260501T180000Z
DTEND:20260501T190000Z
SUMMARY:Mass
DESCRIPTION:
URL:https://www.sunsetfuneralhomes.net/obituaries/remedios-rodriguez-sierra
LOCATION: 9205 North Loop Dr.  El Paso TX 79907
GEO:31.697876;-106.312342
END:VEVENT
END:VCALENDAR