BEGIN:VCALENDAR
VERSION:2.0
PRODID:-//Tukios.com/
BEGIN:VEVENT
UID:4f0421e4-3d99-4f27-9d57-bb546a68912d@www.sunsetfuneralhomes.net
DTSTAMP:20260424T232946Z
DTSTART:20260501T010000Z
DTEND:20260501T020000Z
SUMMARY:Rosary
DESCRIPTION:
URL:https://www.sunsetfuneralhomes.net/obituaries/remedios-rodriguez-sierra
LOCATION: 9521 North Loop  El Paso TX 79907
GEO:31.690169;-106.3016362
END:VEVENT
END:VCALENDAR