BEGIN:VCALENDAR
VERSION:2.0
PRODID:-//Tukios.com/
BEGIN:VEVENT
UID:5a855bdf-d1dc-48c8-b8e0-878be2a6ecd0@www.sunsetfuneralhomes.net
DTSTAMP:20260421T001240Z
DTSTART:20260428T000000Z
DTEND:20260428T010000Z
SUMMARY:Rosary
DESCRIPTION:
URL:https://www.sunsetfuneralhomes.net/obituaries/ronald-farrelly
LOCATION: 4631 Hondo Pass  El Paso TX 79904
GEO:31.8702794;-106.4336397
END:VEVENT
END:VCALENDAR