BEGIN:VCALENDAR
VERSION:2.0
PRODID:-//Tukios.com/
BEGIN:VEVENT
UID:c9878295-3995-4e29-8af0-2f2015f08588@www.sunsetfuneralhomes.net
DTSTAMP:20260421T001208Z
DTSTART:20260428T143000Z
DTEND:20260428T153000Z
SUMMARY:Mass
DESCRIPTION:
URL:https://www.sunsetfuneralhomes.net/obituaries/ronald-farrelly
LOCATION: 4631 Hondo Pass  El Paso TX 79904
GEO:31.8702794;-106.4336397
END:VEVENT
END:VCALENDAR