BEGIN:VCALENDAR
VERSION:2.0
PRODID:-//Tukios.com/
BEGIN:VEVENT
UID:2845619b-deec-49e0-9ba6-3915d2c2eb41@www.sunsetfuneralhomes.net
DTSTAMP:20260421T001336Z
DTSTART:20260428T160000Z
DTEND:20260428T170000Z
SUMMARY:Graveside Service
DESCRIPTION:
URL:https://www.sunsetfuneralhomes.net/obituaries/ronald-farrelly
LOCATION: 5200 Fred Wilson Ave  El Paso TX 79906
GEO:31.8259812;-106.4237258
END:VEVENT
END:VCALENDAR