BEGIN:VCALENDAR
VERSION:2.0
PRODID:-//Tukios.com/
BEGIN:VEVENT
UID:f8cdfd34-81c2-4b74-9053-4cba1bf20cf9@www.sunsetfuneralhomes.net
DTSTAMP:20260421T012052Z
DTSTART:20260430T220000Z
DTEND:20260501T020000Z
SUMMARY:Memorial Gathering
DESCRIPTION:
URL:https://www.sunsetfuneralhomes.net/obituaries/stephanie-padilla
LOCATION: 750 N. Carolina  El Paso TX 79915
GEO:31.7417059;-106.3549333
END:VEVENT
END:VCALENDAR