BEGIN:VCALENDAR
VERSION:2.0
PRODID:-//Tukios.com/
BEGIN:VEVENT
UID:4067e1c8-70b5-4c95-ac92-c4277d39df4b@www.sunsetfuneralhomes.net
DTSTAMP:20260421T011518Z
DTSTART:20260501T000000Z
DTEND:20260501T010000Z
SUMMARY:Prayer Service
DESCRIPTION:
URL:https://www.sunsetfuneralhomes.net/obituaries/stephanie-padilla
LOCATION: 750 N. Carolina  El Paso TX 79915
GEO:31.7417059;-106.3549333
END:VEVENT
END:VCALENDAR